BEGIN:VCALENDAR
VERSION:2.0
PRODID:-//O.F.S. Firenze Monte Alle Croci - ECPv5.1.3//NONSGML v1.0//EN
CALSCALE:GREGORIAN
METHOD:PUBLISH
X-WR-CALNAME:O.F.S. Firenze Monte Alle Croci
X-ORIGINAL-URL:https://ofsmonteallecroci.it
X-WR-CALDESC:Eventi per O.F.S. Firenze Monte Alle Croci
BEGIN:VTIMEZONE
TZID:Europe/Rome
BEGIN:DAYLIGHT
TZOFFSETFROM:+0100
TZOFFSETTO:+0200
TZNAME:CEST
DTSTART:20240331T010000
END:DAYLIGHT
BEGIN:STANDARD
TZOFFSETFROM:+0200
TZOFFSETTO:+0100
TZNAME:CET
DTSTART:20241027T010000
END:STANDARD
END:VTIMEZONE
BEGIN:VEVENT
DTSTART;TZID=Europe/Rome:20241130T150000
DTEND;TZID=Europe/Rome:20241130T220000
DTSTAMP:20260419T163528
CREATED:20240928T171737Z
LAST-MODIFIED:20241020T215700Z
UID:9655-1732978800-1733004000@ofsmonteallecroci.it
SUMMARY:INCONTRO CON LE SORELLE CLARISSE
DESCRIPTION:Il giorno sabato 30 novembre 2024 incontriamo\, assieme ai nostri fratelli “più piccoli” della Gioventù Francescana\, le sorelle Clarisse situate presso il convento in Via di Ruffignano. \nProgramma da definire \nAL TERMINE DELL’INCONTRO MOMENTO DI AGAPE FRATERNA CON LA GIOVENTU FRANCESCANA. \n
URL:https://ofsmonteallecroci.it/incontro/incontro-con-le-sorelle-clarisse/
END:VEVENT
END:VCALENDAR