BEGIN:VCALENDAR
VERSION:2.0
PRODID:-//O.F.S. Firenze Monte Alle Croci - ECPv5.1.3//NONSGML v1.0//EN
CALSCALE:GREGORIAN
METHOD:PUBLISH
X-WR-CALNAME:O.F.S. Firenze Monte Alle Croci
X-ORIGINAL-URL:https://ofsmonteallecroci.it
X-WR-CALDESC:Eventi per O.F.S. Firenze Monte Alle Croci
BEGIN:VTIMEZONE
TZID:Europe/Rome
BEGIN:DAYLIGHT
TZOFFSETFROM:+0100
TZOFFSETTO:+0200
TZNAME:CEST
DTSTART:20250330T010000
END:DAYLIGHT
BEGIN:STANDARD
TZOFFSETFROM:+0200
TZOFFSETTO:+0100
TZNAME:CET
DTSTART:20251026T010000
END:STANDARD
END:VTIMEZONE
BEGIN:VEVENT
DTSTART;VALUE=DATE:20250420
DTEND;VALUE=DATE:20250421
DTSTAMP:20260419T131055
CREATED:20250101T203322Z
LAST-MODIFIED:20250101T203322Z
UID:9714-1745107200-1745193599@ofsmonteallecroci.it
SUMMARY:PASQUA DEL SIGNORE 2025
DESCRIPTION:Cari fratelli e sorelle\, il Signore anche quest’anno è risorto! Auguri a tutti noi e tutti voi! \n \n
URL:https://ofsmonteallecroci.it/incontro/pasqua-del-signore-2025/
END:VEVENT
END:VCALENDAR