BEGIN:VCALENDAR
VERSION:2.0
PRODID:-//O.F.S. Firenze Monte Alle Croci - ECPv5.1.3//NONSGML v1.0//EN
CALSCALE:GREGORIAN
METHOD:PUBLISH
X-WR-CALNAME:O.F.S. Firenze Monte Alle Croci
X-ORIGINAL-URL:https://ofsmonteallecroci.it
X-WR-CALDESC:Eventi per O.F.S. Firenze Monte Alle Croci
BEGIN:VTIMEZONE
TZID:Europe/Rome
BEGIN:DAYLIGHT
TZOFFSETFROM:+0100
TZOFFSETTO:+0200
TZNAME:CEST
DTSTART:20240331T010000
END:DAYLIGHT
BEGIN:STANDARD
TZOFFSETFROM:+0200
TZOFFSETTO:+0100
TZNAME:CET
DTSTART:20241027T010000
END:STANDARD
END:VTIMEZONE
BEGIN:VEVENT
DTSTART;TZID=Europe/Rome:20241004T160000
DTEND;TZID=Europe/Rome:20241004T180000
DTSTAMP:20260419T163527
CREATED:20240928T165543Z
LAST-MODIFIED:20240928T165543Z
UID:9647-1728057600-1728064800@ofsmonteallecroci.it
SUMMARY:PRESENTAZIONE OASI LAUDATO SI ANNO 2024-2025
DESCRIPTION:Oltre alla festa di celebrazione del Santo Francesco nel convento di San Salvatore al Monte alle Croci\, \nricordiamo la presentazione degli incontri\, alla presenza del vescovo\, relativa all’anno 2024-2025  di “OASI LAUDATO SI’ “ \n  \n4 OTTOBRE 2024 DALLE ORE 16.00 ALLE ORE 18.00 \n  \nPER INFORMAZIONI: PAOLO –  ca*************@***il.com \nPer approfondire di chi e cosa si tratta\, qui il manifesto dell’Oasi \n \n
URL:https://ofsmonteallecroci.it/incontro/presentazione-oasi-laudato-si-anno-2024-2025/
END:VEVENT
END:VCALENDAR