BEGIN:VCALENDAR
VERSION:2.0
PRODID:-//O.F.S. Firenze Monte Alle Croci - ECPv5.1.3//NONSGML v1.0//EN
CALSCALE:GREGORIAN
METHOD:PUBLISH
X-WR-CALNAME:O.F.S. Firenze Monte Alle Croci
X-ORIGINAL-URL:https://ofsmonteallecroci.it
X-WR-CALDESC:Eventi per O.F.S. Firenze Monte Alle Croci
BEGIN:VTIMEZONE
TZID:Europe/Rome
BEGIN:DAYLIGHT
TZOFFSETFROM:+0100
TZOFFSETTO:+0200
TZNAME:CEST
DTSTART:20250330T010000
END:DAYLIGHT
BEGIN:STANDARD
TZOFFSETFROM:+0200
TZOFFSETTO:+0100
TZNAME:CET
DTSTART:20251026T010000
END:STANDARD
END:VTIMEZONE
BEGIN:VEVENT
DTSTART;TZID=Europe/Rome:20250413T150000
DTEND;TZID=Europe/Rome:20250413T180000
DTSTAMP:20260419T144124
CREATED:20250101T203136Z
LAST-MODIFIED:20250101T203514Z
UID:9712-1744556400-1744567200@ofsmonteallecroci.it
SUMMARY:VIA CRUCIS - DOMENICA DELLE PALME 2025
DESCRIPTION:Come da titolo\, vivremo assieme il momento della Via Crucis il giorno 13 aprile 2025\, nel primo pomeriggio. A seguire Santa Messa. \nIn attesa di aggiornamenti sulla riapertura della scalinata che conduce da San Niccolò al Convento di Monte Alle Croci\, non possiamo fornirvi ulteriori dettagli. \nVerrete aggiornati. \n \n
URL:https://ofsmonteallecroci.it/incontro/via-crucis-domenica-delle-palme-2025/
LOCATION:Monte alle Croci\, Via di San Salvatore al monte 9\, Firenze\, Firenze\, 50125\, Italia\, Monte alle Croci\, Via di San Salvatore al monte 9\, Firenze\, Firenze\, 50125\, Italia
END:VEVENT
END:VCALENDAR